BEGIN:VCALENDAR
PRODID:-//eluceo/ical//2.0/EN
VERSION:2.0
CALSCALE:GREGORIAN
BEGIN:VEVENT
UID:27eafee8d945bd8b1ad78d1b150de23e
DTSTAMP:20260421T215206Z
SUMMARY:JSpaceCanada Annual General Meeting
DESCRIPTION:UJA Federation of Greater Toronto\nJewish Toronto Calendar\nhtt
 ps://jewishtoronto.com/calendar/jspacecanada-annual-general-meeting-147852
 8837\n\nPublic discussion of Principles of a Just Foreign Policy in the Mi
 ddle East. Keynote speaker: Hon. Irwin Cotler. Moderator: Jonathan Kay\, e
 ditor of the Walrus Magazine.
DTSTART;TZID=America/Toronto:20161129T193000
DTEND;TZID=America/Toronto:20161129T210000
END:VEVENT
END:VCALENDAR
