BEGIN:VCALENDAR
PRODID:-//eluceo/ical//2.0/EN
VERSION:2.0
CALSCALE:GREGORIAN
BEGIN:VEVENT
UID:01a7f9b7ca0ac0c946e4ac6f3d79986d
DTSTAMP:20260422T145339Z
SUMMARY:JRCC Purim Kiddie Chefs
DESCRIPTION:UJA Federation of Greater Toronto\nJewish Toronto Calendar\nhtt
 ps://jewishtoronto.com/calendar/jrcc-purim-kiddie-chefs-1517420661\n\nChil
 dren are invited to prepare for the holiday of Purim and make some hamenta
 shen!
DTSTART;TZID=America/Toronto:20180225T113000
DTEND;TZID=America/Toronto:20180225T133000
END:VEVENT
END:VCALENDAR
