BEGIN:VCALENDAR
PRODID:-//eluceo/ical//2.0/EN
VERSION:2.0
CALSCALE:GREGORIAN
BEGIN:VEVENT
UID:bdbe75bb363e55ab9513a2556da149d6
DTSTAMP:20260425T170833Z
SUMMARY:JRCC Model Matzah Bakery
DESCRIPTION:UJA Federation of Greater Toronto\nJewish Toronto Calendar\nhtt
 ps://jewishtoronto.com/calendar/jrcc-model-matzah-bakery-1520530203\n\nBef
 ore Passover\, the JRCC will visit a Model Matzah Bakery hosted and run by
  Chabad of Southern Ontario.\n\nThe presentation begins with the children 
 making their own flour to be used to bake their own Matzah. Then the works
 hop director reviews the story of Passover\, discusses the making of Shmur
 ah Matzah.\n\nAt the end of the program each participant receives a baker'
 s hat and mixes the flour and water\, kneads the dough\, makes the perfora
 tions\, and watches the matzah bake in the oven. Within...
DTSTART;TZID=America/Toronto:20180311T112000
DTEND;TZID=America/Toronto:20180311T122000
END:VEVENT
END:VCALENDAR
