BEGIN:VCALENDAR
PRODID:-//eluceo/ical//2.0/EN
VERSION:2.0
CALSCALE:GREGORIAN
BEGIN:VEVENT
UID:a4b56f45e9de86ab39a3748f48e8a795
DTSTAMP:20260419T204223Z
SUMMARY:JRCC Chanukah Cafe
DESCRIPTION:UJA Federation of Greater Toronto\nJewish Toronto Calendar\nhtt
 ps://jewishtoronto.com/calendar/jrcc-chanukah-cafe-1511202913\n\nCelebrate
  Chanukah with JRCC South Thornhill at the Chanukah Cafe.
DTSTART;TZID=America/Toronto:20171213T200000
DTEND;TZID=America/Toronto:20171213T220000
END:VEVENT
END:VCALENDAR
