BEGIN:VCALENDAR
PRODID:-//eluceo/ical//2.0/EN
VERSION:2.0
CALSCALE:GREGORIAN
BEGIN:VEVENT
UID:3fff6db4cdfbd37acc292ee07ec283a5
DTSTAMP:20260421T001520Z
SUMMARY:Joshua Institute Program
DESCRIPTION:UJA Federation of Greater Toronto\nJewish Toronto Calendar\nhtt
 ps://jewishtoronto.com/calendar/joshua-institute-program-may-14\n\nJoshua 
 Institute Program
DTSTART;TZID=America/Toronto:20140514T193000
DTEND;TZID=America/Toronto:20140514T213000
END:VEVENT
END:VCALENDAR
