BEGIN:VCALENDAR
PRODID:-//eluceo/ical//2.0/EN
VERSION:2.0
CALSCALE:GREGORIAN
BEGIN:VEVENT
UID:3db8398c559dc166c556f37c3b6ac7b3
DTSTAMP:20260423T004247Z
SUMMARY:Joshua Institute
DESCRIPTION:UJA Federation of Greater Toronto\nJewish Toronto Calendar\nhtt
 ps://jewishtoronto.com/calendar/joshua-institute\n\nJoshua Institute
DTSTART;TZID=America/Toronto:20150128T180000
DTEND;TZID=America/Toronto:20150128T200000
END:VEVENT
END:VCALENDAR
