BEGIN:VCALENDAR
PRODID:-//eluceo/ical//2.0/EN
VERSION:2.0
CALSCALE:GREGORIAN
BEGIN:VEVENT
UID:136a3a2b7d505c3c02f1129e90331160
DTSTAMP:20260423T183333Z
SUMMARY:Jordan as Palestine: The Original Two-State Solution?
DESCRIPTION:UJA Federation of Greater Toronto\nJewish Toronto Calendar\nhtt
 ps://jewishtoronto.com/calendar/jordan-as-palestine-the-original-two-state
 -solution-1495523989\n\nFor over two-decades the world has insisted on the
  Oslo two-state solution as the only answer to ongoing Palestinian terrori
 sm against Israel. Are there alternatives to the Oslo-paradigm?
DTSTART;TZID=America/Toronto:20170525T200000
DTEND;TZID=America/Toronto:20170525T213000
END:VEVENT
END:VCALENDAR
