BEGIN:VCALENDAR
PRODID:-//eluceo/ical//2.0/EN
VERSION:2.0
CALSCALE:GREGORIAN
BEGIN:VEVENT
UID:af15413bcf6eda932744bfa6eb3ec7cb
DTSTAMP:20260422T100038Z
SUMMARY:Join us for a joyful Purim party!
DESCRIPTION:UJA Federation of Greater Toronto\nJewish Toronto Calendar\nhtt
 ps://jewishtoronto.com/calendar/join-us-for-a-joyful-purim-party-174050800
 3\n\nThis year\, we're bringing the excitement of an Israeli shuk (market)
  to Darchei Noam!\nGet ready for a night full of food\, fun\, and celebrat
 ion.\nJoin us and experience...\n\n\nEngaging activities stations with gam
 es\, crafts\, and surprises!\nA beautiful Costume Parade! Dress up and sho
 w off your Purim outfit—prizes for the best ones\nOpportunities do a mit
 zvah! Make mishloach manot (gift bags) to share the Purim joy!\nA magical 
 Megillah Reading! Hear the Purim story\, shake your grogger (noi...
DTSTART;TZID=America/Toronto:20250313T173000
DTEND;TZID=America/Toronto:20250313T200000
END:VEVENT
END:VCALENDAR
