BEGIN:VCALENDAR
PRODID:-//eluceo/ical//2.0/EN
VERSION:2.0
CALSCALE:GREGORIAN
BEGIN:VEVENT
UID:6c60e698be5e1ef8f65f4142549f37e0
DTSTAMP:20260420T231215Z
SUMMARY:Join us as we learn together with Rabbi Wayne Allen 
DESCRIPTION:UJA Federation of Greater Toronto\nJewish Toronto Calendar\nhtt
 ps://jewishtoronto.com/calendar/join-us-as-we-learn-together-with-rabbi-wa
 yne-allen\n\nHAGGAI : THE UNKNOWN HERO of THE SECOND TEMPLE\n\nA two-part 
 lecture series.\n\nMay 7\, 2015 - 7:30pm\n\nMay 14\, 2015 - 7:30pm
DTSTART;TZID=America/Toronto:20150507T193000
DTEND;TZID=America/Toronto:20150507T213000
END:VEVENT
END:VCALENDAR
