BEGIN:VCALENDAR
PRODID:-//eluceo/ical//2.0/EN
VERSION:2.0
CALSCALE:GREGORIAN
BEGIN:VEVENT
UID:e2a5433ed3a3f774279d228a3a97d069
DTSTAMP:20260425T234837Z
SUMMARY:Joey's Open Tennis Tournament
DESCRIPTION:UJA Federation of Greater Toronto\nJewish Toronto Calendar\nhtt
 ps://jewishtoronto.com/calendar/joeys-open-tennis-tournament-1448910762\n\
 nAnnual Charity tennis tournament in Memory Of Yoseph Chaim "JOEY" Serruya
  z"l
DTSTART;TZID=America/Toronto:20160612T080000
DTEND;TZID=America/Toronto:20160612T160000
END:VEVENT
END:VCALENDAR
