BEGIN:VCALENDAR
PRODID:-//eluceo/ical//2.0/EN
VERSION:2.0
CALSCALE:GREGORIAN
BEGIN:VEVENT
UID:88bb5a7eb36ad8fef6ee10188232896a
DTSTAMP:20260420T104220Z
SUMMARY:JOEYS CUP Tennis Open 
DESCRIPTION:UJA Federation of Greater Toronto\nJewish Toronto Calendar\nhtt
 ps://jewishtoronto.com/calendar/joeys-cup-tennis-open-1459178479\n\nPlease
  change this date on calendar from June 5th to June 19 and it's a Chai Lif
 eline event thanks Orna Serruya
DTSTART;TZID=America/Toronto:20160619T073000
DTEND;TZID=America/Toronto:20160619T160000
END:VEVENT
END:VCALENDAR
