BEGIN:VCALENDAR
PRODID:-//eluceo/ical//2.0/EN
VERSION:2.0
CALSCALE:GREGORIAN
BEGIN:VEVENT
UID:bcbce877d2aa307281956ebc041be0c9
DTSTAMP:20260419T233238Z
SUMMARY:Jobs Canada - Toronto Job Fair
DESCRIPTION:UJA Federation of Greater Toronto\nJewish Toronto Calendar\nhtt
 ps://jewishtoronto.com/calendar/jobs-canada-toronto-job-fair\n\nOnline Pre
 -Registration Required.  (Click the register button above)\n\nMeet face t
 o face with recruiters\, HR Managers and hiring companies from the Greater
  Toronto Area and across Ontario. \n\nCheck the list of job postings and 
 the List of Exhibitors on the website link below: http://www.wbgcanada.com
DTSTART;TZID=America/Toronto:20170309T010000
DTEND;TZID=America/Toronto:20170309T200000
END:VEVENT
END:VCALENDAR
