BEGIN:VCALENDAR
PRODID:-//eluceo/ical//2.0/EN
VERSION:2.0
CALSCALE:GREGORIAN
BEGIN:VEVENT
UID:6e9ac70b290b04c5221060239ee867a4
DTSTAMP:20260424T021026Z
SUMMARY:JNF Tu Bi'Shevat Telethon Follow Ups
DESCRIPTION:UJA Federation of Greater Toronto\nJewish Toronto Calendar\nhtt
 ps://jewishtoronto.com/calendar/jnf-tu-bishevat-telethon-follow-ups-156624
 0571\n\nJNF Tu Bi Shevat Telethon Follow up
DTSTART;TZID=America/Toronto:20200212T183000
DTEND;TZID=America/Toronto:20200212T210000
END:VEVENT
END:VCALENDAR
