BEGIN:VCALENDAR
PRODID:-//eluceo/ical//2.0/EN
VERSION:2.0
CALSCALE:GREGORIAN
BEGIN:VEVENT
UID:ba7b415f2043d23ade5eca4fea71dc95
DTSTAMP:20260424T212701Z
SUMMARY:JNF Tu Bi’Shevat Telethon
DESCRIPTION:UJA Federation of Greater Toronto\nJewish Toronto Calendar\nhtt
 ps://jewishtoronto.com/calendar/jnf-tu-bishevat-telethon-1\n\nLocation to 
 be announced.
DTSTART;TZID=America/Toronto:20160207T090000
DTEND;TZID=America/Toronto:20160207T170000
END:VEVENT
END:VCALENDAR
