BEGIN:VCALENDAR
PRODID:-//eluceo/ical//2.0/EN
VERSION:2.0
CALSCALE:GREGORIAN
BEGIN:VEVENT
UID:7a5915c017a88e7b4dd9566bb4c52174
DTSTAMP:20260422T115922Z
SUMMARY:JNF - Tu Bi'Shevat Telethon
DESCRIPTION:UJA Federation of Greater Toronto\nJewish Toronto Calendar\nhtt
 ps://jewishtoronto.com/calendar/jnf-tu-bishevat-telethon\n\nLocation TBD
DTSTART;TZID=America/Toronto:20150201T103000
DTEND;TZID=America/Toronto:20150201T170000
END:VEVENT
END:VCALENDAR
