BEGIN:VCALENDAR
PRODID:-//eluceo/ical//2.0/EN
VERSION:2.0
CALSCALE:GREGORIAN
BEGIN:VEVENT
UID:9cba966f38f8abe970a80432c9d14dff
DTSTAMP:20260422T111358Z
SUMMARY:JNF Toronto: The Truth Behind Hamas
DESCRIPTION:UJA Federation of Greater Toronto\nJewish Toronto Calendar\nhtt
 ps://jewishtoronto.com/calendar/jnf-toronto-the-truth-behind-hamas-1726500
 554\n\nJNF Toronto is hosting A Candid Conversation with Mosab Hassan Yous
 ef\, the Son of Hamas\, on Monday\, December 2. More detail to follow.
DTSTART;TZID=America/Toronto:20241202T183000
DTEND;TZID=America/Toronto:20241202T203000
END:VEVENT
END:VCALENDAR
