BEGIN:VCALENDAR
PRODID:-//eluceo/ical//2.0/EN
VERSION:2.0
CALSCALE:GREGORIAN
BEGIN:VEVENT
UID:12b3d34591458032c845949844b43ad0
DTSTAMP:20260424T165034Z
SUMMARY:JNF Toronto: Telethon!
DESCRIPTION:UJA Federation of Greater Toronto\nJewish Toronto Calendar\nhtt
 ps://jewishtoronto.com/calendar/jnf-toronto-telethon-1669822605\n\nJewish 
 National Fund of Toronto will host a Telethon at their office!\n\nFor more
  information\, please go to jnftoronto.ca
DTSTART;TZID=America/Toronto:20230208T180000
DTEND;TZID=America/Toronto:20230208T203000
END:VEVENT
END:VCALENDAR
