BEGIN:VCALENDAR
PRODID:-//eluceo/ical//2.0/EN
VERSION:2.0
CALSCALE:GREGORIAN
BEGIN:VEVENT
UID:0619b7ff13467fe3fa3e9feb60ca411a
DTSTAMP:20260421T080908Z
SUMMARY:JNF Toronto: Soma for the Soul
DESCRIPTION:UJA Federation of Greater Toronto\nJewish Toronto Calendar\nhtt
 ps://jewishtoronto.com/calendar/jnf-toronto-soma-for-the-soul-1716382648\n
 \nJNF Future presents an evening of Soma for the Soul!\n\nFeaturing Esther
  Willinger\, a transformational coach and advance SOMA Breath instructor.\
 n\nThis is an outdoor event!\n\nPlease remember to bring your yoga mat\, s
 weater\, and smile!\n\nEvent Details:\nDate: Wednesday\, July 17\, 2024\nT
 iming: 7:30 PM - 9:30 PM\nLocation: To be disclosed closer to the event da
 te (North York area\, Toronto)\n\nPlease register by Friday\, July 12th at
  12:00 PM (Noon).
DTSTART;TZID=America/Toronto:20240717T193000
DTEND;TZID=America/Toronto:20240717T220000
END:VEVENT
END:VCALENDAR
