BEGIN:VCALENDAR
PRODID:-//eluceo/ical//2.0/EN
VERSION:2.0
CALSCALE:GREGORIAN
BEGIN:VEVENT
UID:6943bcd35d10385d1e197f45e775e87d
DTSTAMP:20260421T043520Z
SUMMARY:JNF Toronto Negev Campaign Kickoff
DESCRIPTION:UJA Federation of Greater Toronto\nJewish Toronto Calendar\nhtt
 ps://jewishtoronto.com/calendar/jnf-toronto-negev-campaign-kickoff-1534347
 272\n\nJoin us for the 2018 Negev Campaign Kick Off!\n\nOn Sunday\, Novemb
 er 18th\, JNF Toronto is hosting its annual Negev Dinner in support of Lek
 et Israel. Leket Israel is the largest food bank in Israel\, and has been 
 a leader and an expert in food rescue and distribution to needy people nat
 ionwide.\n\nThis year's dinner is honouring Julia and Henry Koschitzky.\n\
 nThe 2018 Negev Campaign and Dinner is Proudly Chaired by:\nJudy and David
  Engel\nKitty and George Grossman\nDebbie and Warren Kimel\nMar...
DTSTART;TZID=America/Toronto:20180913T193000
DTEND;TZID=America/Toronto:20180913T223000
END:VEVENT
END:VCALENDAR
