BEGIN:VCALENDAR
PRODID:-//eluceo/ical//2.0/EN
VERSION:2.0
CALSCALE:GREGORIAN
BEGIN:VEVENT
UID:77593ce4133c6f27bf55526c2ea4538e
DTSTAMP:20260419T152456Z
SUMMARY:JNF Toronto and SACH Present: Trivia Night Ft. Scott Rogowsky
DESCRIPTION:UJA Federation of Greater Toronto\nJewish Toronto Calendar\nhtt
 ps://jewishtoronto.com/calendar/jnf-toronto-and-sach-present-trivia-night-
 ft-scott-rogowsky-1521730745\n\nJoin JNF and SACH and Scott Rogowsky\, the
  “Quizimaster" for a fun night of Trivia\, and Music ft The Garden.
DTSTART;TZID=America/Toronto:20180607T200000
DTEND;TZID=America/Toronto:20180607T230000
END:VEVENT
END:VCALENDAR
