BEGIN:VCALENDAR
PRODID:-//eluceo/ical//2.0/EN
VERSION:2.0
CALSCALE:GREGORIAN
BEGIN:VEVENT
UID:bb2a79087fc3adc7ba5e0bc8a62a583e
DTSTAMP:20260423T015943Z
SUMMARY:JNF Toronto and Adath Israel Congregation Present: Shabbat Dinner
DESCRIPTION:UJA Federation of Greater Toronto\nJewish Toronto Calendar\nhtt
 ps://jewishtoronto.com/calendar/jnf-toronto-and-adath-israel-congregation-
 present-shabbat-dinner-1522767275\n\nJoin us for a Shabbat Dinner Featurin
 g guest speaker Avi Ditcher MK
DTSTART;TZID=America/Toronto:20180420T191500
DTEND;TZID=America/Toronto:20180420T221500
END:VEVENT
END:VCALENDAR
