BEGIN:VCALENDAR
PRODID:-//eluceo/ical//2.0/EN
VERSION:2.0
CALSCALE:GREGORIAN
BEGIN:VEVENT
UID:3f075803de1ef0b254bfea9c21e564ec
DTSTAMP:20260424T064538Z
SUMMARY:JNF Past Negev Dinner Honourees Evening
DESCRIPTION:UJA Federation of Greater Toronto\nJewish Toronto Calendar\nhtt
 ps://jewishtoronto.com/calendar/jnf-past-negev-dinner-honourees-evening\n\
 nJNF Past Negev Dinner Honourees Evening
DTSTART;TZID=America/Toronto:20140717T190000
DTEND;TZID=America/Toronto:20140717T220000
END:VEVENT
END:VCALENDAR
