BEGIN:VCALENDAR
PRODID:-//eluceo/ical//2.0/EN
VERSION:2.0
CALSCALE:GREGORIAN
BEGIN:VEVENT
UID:2cf01d9c58593d794a2bb38eeb5e4f33
DTSTAMP:20260422T050308Z
SUMMARY:JNF King David Circle Trip to the United Nations
DESCRIPTION:UJA Federation of Greater Toronto\nJewish Toronto Calendar\nhtt
 ps://jewishtoronto.com/calendar/jnf-king-david-circle-trip-to-the-united-n
 ations-1448904388\n\nKing David Circle Annual Gathering this year at the U
 nited Nations
DTSTART;TZID=America/Toronto:20160517T120000
DTEND;TZID=America/Toronto:20160517T235900
END:VEVENT
END:VCALENDAR
