BEGIN:VCALENDAR
PRODID:-//eluceo/ical//2.0/EN
VERSION:2.0
CALSCALE:GREGORIAN
BEGIN:VEVENT
UID:8b1293b52011c7b5617c0eab5b55d186
DTSTAMP:20260419T215245Z
SUMMARY:JNF & Jaffa: Hike for a Cause
DESCRIPTION:UJA Federation of Greater Toronto\nJewish Toronto Calendar\nhtt
 ps://jewishtoronto.com/calendar/jnf-jaffa-hike-for-a-cause\n\nJNF Toronto 
 and The Jaffa Institute have come together to plan a trek for those alike.
 \n\nMore details to follow.
DTSTART;TZID=America/Toronto:20230910T093000
DTEND;TZID=America/Toronto:20230910T113000
END:VEVENT
END:VCALENDAR
