BEGIN:VCALENDAR
PRODID:-//eluceo/ical//2.0/EN
VERSION:2.0
CALSCALE:GREGORIAN
BEGIN:VEVENT
UID:096dddb61c063789e3e647e3c2222921
DTSTAMP:20260422T053117Z
SUMMARY:JNF Golf Classic
DESCRIPTION:UJA Federation of Greater Toronto\nJewish Toronto Calendar\nhtt
 ps://jewishtoronto.com/calendar/jnf-golf-classic-1542164246\n\n18th Annual
  JNF Golf Tournament at Devil's Pulpit Golf Club in Caledon.
DTSTART;TZID=America/Toronto:20190604T090000
DTEND;TZID=America/Toronto:20190604T235900
END:VEVENT
END:VCALENDAR
