BEGIN:VCALENDAR
PRODID:-//eluceo/ical//2.0/EN
VERSION:2.0
CALSCALE:GREGORIAN
BEGIN:VEVENT
UID:b45eec7d47250be45e0fad199a346837
DTSTAMP:20260421T221535Z
SUMMARY:JNF Future: Women Who Slay
DESCRIPTION:UJA Federation of Greater Toronto\nJewish Toronto Calendar\nhtt
 ps://jewishtoronto.com/calendar/jnf-future-women-who-slay-1719411813\n\nWo
 men Who Slay - 3rd Annual Event!\n\nCheckout JNF.CA on our events page for
  more details.
DTSTART;TZID=America/Toronto:20250302T110000
DTEND;TZID=America/Toronto:20250302T130000
END:VEVENT
END:VCALENDAR
