BEGIN:VCALENDAR
PRODID:-//eluceo/ical//2.0/EN
VERSION:2.0
CALSCALE:GREGORIAN
BEGIN:VEVENT
UID:31298e65de0850f71bf4582aec8e50d6
DTSTAMP:20260423T054424Z
SUMMARY:JNF Future Mimouna Celebration!
DESCRIPTION:UJA Federation of Greater Toronto\nJewish Toronto Calendar\nhtt
 ps://jewishtoronto.com/calendar/jnf-future-mimouna-celebration\n\nLocation
  TBD\n\n 
DTSTART;TZID=America/Toronto:20150412T190000
DTEND;TZID=America/Toronto:20150412T220000
END:VEVENT
END:VCALENDAR
