BEGIN:VCALENDAR
PRODID:-//eluceo/ical//2.0/EN
VERSION:2.0
CALSCALE:GREGORIAN
BEGIN:VEVENT
UID:04e11c82c8f578df4a591ab7b23740f2
DTSTAMP:20260422T050627Z
SUMMARY:JNF Future: Driving to the Future\, Golf Tournament
DESCRIPTION:UJA Federation of Greater Toronto\nJewish Toronto Calendar\nhtt
 ps://jewishtoronto.com/calendar/jnf-future-driving-to-the-future-golf-tour
 nament-1711643462\n\nJNF Future in hosting their 7th annual golf tournamen
 t\, Driving to the Future\, on Tuesday\, August 20\, 2024.\n\nCheck jnf.ca
  on the events page for updates.\n\nContact Melanie via email at melanie.k
 ushner@jnf.ca for more information.
DTSTART;TZID=America/Toronto:20240820T110000
DTEND;TZID=America/Toronto:20240820T190000
END:VEVENT
END:VCALENDAR
