BEGIN:VCALENDAR
PRODID:-//eluceo/ical//2.0/EN
VERSION:2.0
CALSCALE:GREGORIAN
BEGIN:VEVENT
UID:06159a3463734427c034f09531501d76
DTSTAMP:20260422T194110Z
SUMMARY:JNF Future 5th Annual Driving to the Future Golf Tournament
DESCRIPTION:UJA Federation of Greater Toronto\nJewish Toronto Calendar\nhtt
 ps://jewishtoronto.com/calendar/jnf-future-5th-annual-driving-to-the-futur
 e-golf-tournament-1645198364\n\nJNF Future will hold the 5th Annual Drivin
 g to the Future Golf Tournament at Oakdale Golf and Country Club.\nPlease 
 join us and enjoy a great round of golf\, good food\, and memorable day on
  course all while supporting a meaningful cause\, the renovation of the Ho
 sen Drug and Treatment Centre’s therapeutic garden spaces in Israel.
DTSTART;TZID=America/Toronto:20220822T113000
DTEND;TZID=America/Toronto:20220822T190000
END:VEVENT
END:VCALENDAR
