BEGIN:VCALENDAR
PRODID:-//eluceo/ical//2.0/EN
VERSION:2.0
CALSCALE:GREGORIAN
BEGIN:VEVENT
UID:a7294257c3af6656c031804968512288
DTSTAMP:20260422T205213Z
SUMMARY:JNF Future 2nd Annual Driving to the Future Golf Tournament
DESCRIPTION:UJA Federation of Greater Toronto\nJewish Toronto Calendar\nhtt
 ps://jewishtoronto.com/calendar/jnf-future-2nd-annual-driving-to-the-futur
 e-golf-tournament-1540316517\n\nCalling all golfers 25-40 yrs old to "DRIV
 E INTO THE FUTURE"\n\nJoin us for a day of Golf and Fun!
DTSTART;TZID=America/Toronto:20190722T113000
DTEND;TZID=America/Toronto:20190722T193000
END:VEVENT
END:VCALENDAR
