BEGIN:VCALENDAR
PRODID:-//eluceo/ical//2.0/EN
VERSION:2.0
CALSCALE:GREGORIAN
BEGIN:VEVENT
UID:5ac123b145a63b07fa9e082ad9361e2f
DTSTAMP:20260421T203625Z
SUMMARY:JNF Future & UptownCYP:  A Community Shabbat Dinner
DESCRIPTION:UJA Federation of Greater Toronto\nJewish Toronto Calendar\nhtt
 ps://jewishtoronto.com/calendar/jnf-future--uptowncyp--a-community-shabbat
 -dinner-1707428651\n\nJNF Future and UptownCYP have partnered together to 
 host A Community Shabbat Dinner for young professionals! Join us to celebr
 ate Shabbat and unite with the young Jewish community of Toronto during th
 ese dark times.
DTSTART;TZID=America/Toronto:20240223T183000
DTEND;TZID=America/Toronto:20240223T230000
END:VEVENT
END:VCALENDAR
