BEGIN:VCALENDAR
PRODID:-//eluceo/ical//2.0/EN
VERSION:2.0
CALSCALE:GREGORIAN
BEGIN:VEVENT
UID:e22289ff1cfda2e22e8a80198373e7e2
DTSTAMP:20260421T093622Z
SUMMARY:JNF Future- Cook for a Cause 
DESCRIPTION:UJA Federation of Greater Toronto\nJewish Toronto Calendar\nhtt
 ps://jewishtoronto.com/calendar/jnf-future--cook-for-a-cause-1456844948\n\
 nJoin JNF Young Professionals and their families for our annual cook for a
  cause. This year\, don't expect your Bubbie's typical recipes! \;)
DTSTART;TZID=America/Toronto:20160524T183000
DTEND;TZID=America/Toronto:20160524T213000
END:VEVENT
END:VCALENDAR
