BEGIN:VCALENDAR
PRODID:-//eluceo/ical//2.0/EN
VERSION:2.0
CALSCALE:GREGORIAN
BEGIN:VEVENT
UID:65327835188419ffde060729fb106084
DTSTAMP:20260426T021818Z
SUMMARY:JNF Families & Prosserman JCC: Community Earth Day
DESCRIPTION:UJA Federation of Greater Toronto\nJewish Toronto Calendar\nhtt
 ps://jewishtoronto.com/calendar/jnf-families-prosserman-jcc-community-eart
 h-day\n\nJoin JNF Families and Prosserman JCC on Sunday\, April 14th for 
 a community-wide Earth Day event! 
DTSTART;TZID=America/Toronto:20240505T130000
DTEND;TZID=America/Toronto:20240505T150000
END:VEVENT
END:VCALENDAR
