BEGIN:VCALENDAR
PRODID:-//eluceo/ical//2.0/EN
VERSION:2.0
CALSCALE:GREGORIAN
BEGIN:VEVENT
UID:a0c37740af211347a0de763b05ecb057
DTSTAMP:20260422T064831Z
SUMMARY:JNF  Telethon
DESCRIPTION:UJA Federation of Greater Toronto\nJewish Toronto Calendar\nhtt
 ps://jewishtoronto.com/calendar/jnf--telethon-1520269238\n\nTu Bi'Shevat T
 elethon Follow ups
DTSTART;TZID=America/Toronto:20180318T100000
DTEND;TZID=America/Toronto:20180318T150000
END:VEVENT
END:VCALENDAR
