BEGIN:VCALENDAR
PRODID:-//eluceo/ical//2.0/EN
VERSION:2.0
CALSCALE:GREGORIAN
BEGIN:VEVENT
UID:da4b816cb94ab6da210b4f7e5db68096
DTSTAMP:20260420T160832Z
SUMMARY:Jewish Music Week in Toronto : Zamir - Jewish Voices Return to Pola
 nd
DESCRIPTION:UJA Federation of Greater Toronto\nJewish Toronto Calendar\nhtt
 ps://jewishtoronto.com/calendar/jmw-zamir-jewish-voices-return-to-poland\n
 \nBring your coffee and join us for a Morning Movie! This unique film foll
 ows Boston’s renowned Zamir Chorale on their Eastern European concert to
 ur. With both joy and poignancy\, the group celebrates the Jewish music tr
 adition and the courage of the people who were sent to concentration camps
 . Archival film footage and remembrances of Holocaust survivors are inters
 persed with performances for an unforgettable experience.\n\nFree Admissio
 n\n\nFor more information visit www.jewishmusicweek.com
DTSTART;TZID=America/Toronto:20150513T100000
DTEND;TZID=America/Toronto:20150513T110000
END:VEVENT
END:VCALENDAR
