BEGIN:VCALENDAR
PRODID:-//eluceo/ical//2.0/EN
VERSION:2.0
CALSCALE:GREGORIAN
BEGIN:VEVENT
UID:cc2360534fd3f53022d4068f0fc60355
DTSTAMP:20260420T160245Z
SUMMARY:Jewish Music Week in Toronto: Jewish TV Theme Songs
DESCRIPTION:UJA Federation of Greater Toronto\nJewish Toronto Calendar\nhtt
 ps://jewishtoronto.com/calendar/jmw-jewish-tv-theme-songs\n\nCantor Eyal B
 itton\n\nJewish Music Week’s favourite lecturer is back\, and you won’
 t want to miss this!  Classic TV shows of the past gave us terrific TV th
 eme songs\, many of which were written by Jewish composers. With nostalgic
  video clips and his ever-charming style\, Cantor Eyal Bitton will examine
  these memorable melodies and the talented people who wrote them.\n\nFree 
 Admission\n\nFor more information visit www.jewishmusicweek.com
DTSTART;TZID=America/Toronto:20150512T100000
DTEND;TZID=America/Toronto:20150512T110000
END:VEVENT
END:VCALENDAR
