BEGIN:VCALENDAR
PRODID:-//eluceo/ical//2.0/EN
VERSION:2.0
CALSCALE:GREGORIAN
BEGIN:VEVENT
UID:d074d8bcc8c755dcafeefe018c651cd2
DTSTAMP:20260426T042822Z
SUMMARY:Jewish Music Week in Toronto : Gypsy Jive Band
DESCRIPTION:UJA Federation of Greater Toronto\nJewish Toronto Calendar\nhtt
 ps://jewishtoronto.com/calendar/jmw-gypsy-jive-band\n\nIt’s the most boi
 sterous lunch hour of the week! The Gypsy Jive Band will entertain you wit
 h a treasure trove of Klezmer\, Yiddish\, Sephardic and Greek music. Tradi
 tional vocal tunes and melodies from the Balkans\, Eastern Europe\, the Ch
 assidim and beyond are all presented with knowledgeable explanations of th
 e genre. This is exactly the uplifting break that you’re looking for in 
 the middle of the day!\n \nFree Admission\n\nLOCATION TBA\n\n For more i
 nformation visit www.jewishmusicweek.c...
DTSTART;TZID=America/Toronto:20150515T120000
DTEND;TZID=America/Toronto:20150515T130000
END:VEVENT
END:VCALENDAR
