BEGIN:VCALENDAR
PRODID:-//eluceo/ical//2.0/EN
VERSION:2.0
CALSCALE:GREGORIAN
BEGIN:VEVENT
UID:13e9b26162ce99df6059e4bd5773a2bb
DTSTAMP:20260425T145528Z
SUMMARY:JMW -The Adon Olam Lecture
DESCRIPTION:UJA Federation of Greater Toronto\nJewish Toronto Calendar\nhtt
 ps://jewishtoronto.com/calendar/jmw--the-adon-olam-lecture-1523367381\n\nT
 he Adon Olam Lecture\nCantor Benjamin Maissner\nCantor Maissner shares and
  explores the most famous Jewish hymn Adon Olam\, from antiquity through t
 he Renaissance\, classical and romantic periods\, and opens our eyes (and 
 ears) to a new world of Adon Olam. Featuring Nadia Adler\, piano Admission
  Free\, Ticket required at www.jewishmusicweek.com
DTSTART;TZID=America/Toronto:20180530T100000
DTEND;TZID=America/Toronto:20180530T110000
END:VEVENT
END:VCALENDAR
