BEGIN:VCALENDAR
PRODID:-//eluceo/ical//2.0/EN
VERSION:2.0
CALSCALE:GREGORIAN
BEGIN:VEVENT
UID:0c211cc2e923f024dd5f5729cf0f5234
DTSTAMP:20260425T154622Z
SUMMARY:JMW- Bach\, Antisemitism and the Novel And After the Fire- Lecture
DESCRIPTION:UJA Federation of Greater Toronto\nJewish Toronto Calendar\nhtt
 ps://jewishtoronto.com/calendar/jmw--bach-antisemitism-and-the-novel-and-a
 fter-the-fire--lecture-1523368913\n\nBach\, Antisemitism and the Novel And
  After the Fire\nCynthia Good\nSome of Bach’s cantatas contain anti-Semi
 tic sentiments. Explored in And After the Fire - a novel by Lauren Belfer\
 ; she fictionalizes a Bach cantata and its history to the present day. Cyn
 thia Good discusses the novel\, the role of women musicians in the 1800’
 s and the separating of artist from the art. Admission Free www.jewishmusi
 cweek.com Presented in partnership with Association for Jewish Libraries i
 n Ontario
DTSTART;TZID=America/Toronto:20180531T100000
DTEND;TZID=America/Toronto:20180531T110000
END:VEVENT
END:VCALENDAR
