BEGIN:VCALENDAR
PRODID:-//eluceo/ical//2.0/EN
VERSION:2.0
CALSCALE:GREGORIAN
BEGIN:VEVENT
UID:72dd7798d961afa278f05cd1702085fe
DTSTAMP:20260422T020113Z
SUMMARY:JMW - Sicilian Jewish Jazz Project
DESCRIPTION:UJA Federation of Greater Toronto\nJewish Toronto Calendar\nhtt
 ps://jewishtoronto.com/calendar/jmw---sicilian-jewish-jazz-project-1523371
 019\n\nSicilian Jewish Jazz Project\nMichael Occhipinti\nThe Sicilian Jewi
 sh Jazz project highlights the 15th century contribution of Jews to Sicili
 an culture\, and music prior to 1492. Admission Free\, Food and drink avai
 lable for purchase www.jewishmusicweek.com
DTSTART;TZID=America/Toronto:20180601T140000
DTEND;TZID=America/Toronto:20180601T150000
END:VEVENT
END:VCALENDAR
