BEGIN:VCALENDAR
PRODID:-//eluceo/ical//2.0/EN
VERSION:2.0
CALSCALE:GREGORIAN
BEGIN:VEVENT
UID:97ba20feb32ccedc756b10f428346c33
DTSTAMP:20260422T135857Z
SUMMARY:JMW - Musicians of Tomorrow
DESCRIPTION:UJA Federation of Greater Toronto\nJewish Toronto Calendar\nhtt
 ps://jewishtoronto.com/calendar/jmw---musicians-of-tomorrow-1523368554\n\n
 Musicians of Tomorrow\nTrio of gifted Israeli musicians ages 11-14\, perfo
 rming works of Mendelssohn\, Wienawski\, Ladino folk songs\, Klezmer music
  and more. Manya Suissa (piano)\, Ronnie Arbitman (violin)\, Lavi Zarfati 
 (clarinet)\, 416-789-3291\, ext. 224 Gen. Admission $36\, Students (18 and
  under) $18.
DTSTART;TZID=America/Toronto:20180530T193000
DTEND;TZID=America/Toronto:20180530T210000
END:VEVENT
END:VCALENDAR
