BEGIN:VCALENDAR
PRODID:-//eluceo/ical//2.0/EN
VERSION:2.0
CALSCALE:GREGORIAN
BEGIN:VEVENT
UID:17bbe79dedd1d64541a18d75a33a7c5b
DTSTAMP:20260421T052239Z
SUMMARY:JLIC Fundraiser
DESCRIPTION:UJA Federation of Greater Toronto\nJewish Toronto Calendar\nhtt
 ps://jewishtoronto.com/calendar/jlic-fundraiser\n\nSponsored by Seif Jewis
 h Learning Initiative on Campus (JLIC) - Toronto. A project of the Orthodo
 x Union in partnership with Hillel of Greater Toronto. Incorporating the T
 urk Family Beit Midrash at York University. Parents come by and give money
  as a way to say thank you to all of the great work that JLIC does in our 
 community plus they get a free drink!
DTSTART;TZID=America/Toronto:20140308T210000
DTEND;TZID=America/Toronto:20140308T230000
END:VEVENT
END:VCALENDAR
