BEGIN:VCALENDAR
PRODID:-//eluceo/ical//2.0/EN
VERSION:2.0
CALSCALE:GREGORIAN
BEGIN:VEVENT
UID:70a1cf8bf48e1a0c3b3ee4006f57c39f
DTSTAMP:20260421T153829Z
SUMMARY:JIAS Virtual Refugee Shabbat Havdalah
DESCRIPTION:UJA Federation of Greater Toronto\nJewish Toronto Calendar\nhtt
 ps://jewishtoronto.com/calendar/jias-virtual-refugee-shabbat-havdalah-1645
 540590\n\nOn Saturday March 5 at 8pm EST\, JIAS Toronto will host a virtua
 l Refugee Shabbat Havdalah for individuals and congregations across Canada
  to join together and joyfully mark the beginning of a new week while show
 ing commitment to Tikkun Olam through supporting refugees. Please join for
  this special\, musical gathering and feel the power of connection with co
 mmunities and refugee advocates across Canada.
DTSTART;TZID=America/Toronto:20220305T200000
DTEND;TZID=America/Toronto:20220305T210000
END:VEVENT
END:VCALENDAR
