BEGIN:VCALENDAR
PRODID:-//eluceo/ical//2.0/EN
VERSION:2.0
CALSCALE:GREGORIAN
BEGIN:VEVENT
UID:8064ad0907ce001ba719a8f3ef418629
DTSTAMP:20260422T121317Z
SUMMARY:JIAS Toronto AGM
DESCRIPTION:UJA Federation of Greater Toronto\nJewish Toronto Calendar\nhtt
 ps://jewishtoronto.com/calendar/jias-toronto-agm-1727811682\n\nThis is the
  Annual General Meeting of JIAS Toronto.
DTSTART;TZID=America/Toronto:20250916T180000
DTEND;TZID=America/Toronto:20250916T204500
END:VEVENT
END:VCALENDAR
