BEGIN:VCALENDAR
PRODID:-//eluceo/ical//2.0/EN
VERSION:2.0
CALSCALE:GREGORIAN
BEGIN:VEVENT
UID:1bfe78a1b5ba31889cc3beb0044dd2e2
DTSTAMP:20260420T070214Z
SUMMARY:JIAS Toronto AGM
DESCRIPTION:UJA Federation of Greater Toronto\nJewish Toronto Calendar\nhtt
 ps://jewishtoronto.com/calendar/jias-toronto-agm-1686165256\n\nJIAS Toront
 o will be hosting its AGM for fiscal period April 1\, 2022 - March 31\, 20
 23
DTSTART;TZID=America/Toronto:20230926T190000
DTEND;TZID=America/Toronto:20230926T210000
END:VEVENT
END:VCALENDAR
