BEGIN:VCALENDAR
PRODID:-//eluceo/ical//2.0/EN
VERSION:2.0
CALSCALE:GREGORIAN
BEGIN:VEVENT
UID:a7befc842a7aaba2ae2d27f78a0c4f2a
DTSTAMP:20260419T131723Z
SUMMARY:JGS Toronto. The Importance of Interviews in Creating and Saving St
 ories.
DESCRIPTION:UJA Federation of Greater Toronto\nJewish Toronto Calendar\nhtt
 ps://jewishtoronto.com/calendar/jgs-toronto-the-importance-of-interviews-i
 n-creating-and-saving-stories-1548125012\n\nFor genealogists\, storytellin
 g and interviews can add the elusive historical texture that factual docum
 ents simply cannot provide. Zack will demonstrate the use of Joseph Campbe
 ll's Hero’s Journey as a guide for preparing for an interview\, elicitin
 g compelling stories\, asking follow-up questions during the interview\, a
 nd effectively retelling those stories.  Zack is the founder and CEO of Th
 eirStory\, a web-based\, video hosting and recording platform that allows 
 individuals\, families and ora...
DTSTART;TZID=America/Toronto:20190324T103000
DTEND;TZID=America/Toronto:20190324T120000
END:VEVENT
END:VCALENDAR
