BEGIN:VCALENDAR
PRODID:-//eluceo/ical//2.0/EN
VERSION:2.0
CALSCALE:GREGORIAN
BEGIN:VEVENT
UID:989307d6d388ec7c330610f5fe5791f0
DTSTAMP:20260421T130558Z
SUMMARY:JGS Toronto. Drowning in Data: Some Survival Techniques
DESCRIPTION:UJA Federation of Greater Toronto\nJewish Toronto Calendar\nhtt
 ps://jewishtoronto.com/calendar/jgs-toronto-drowning-in-data-some-survival
 -techniques\n\nDrowning in Data: \nSome Survival Techniques\n\nSpeaker: Le
 s Kelman\n\nShaarei Shomayim Congregation\n 470 Glencairn Avenue\nWednesda
 y\, December 12\, 2018 at 8.00 pm\n
DTSTART;TZID=America/Toronto:20181212T200000
DTEND;TZID=America/Toronto:20181212T213000
END:VEVENT
END:VCALENDAR
