BEGIN:VCALENDAR
PRODID:-//eluceo/ical//2.0/EN
VERSION:2.0
CALSCALE:GREGORIAN
BEGIN:VEVENT
UID:77f09874c2f0499d7451395976462ab9
DTSTAMP:20260419T193540Z
SUMMARY:JGS Toronto. DNA: Ownership and Privacy of Genetic Testing Results
DESCRIPTION:UJA Federation of Greater Toronto\nJewish Toronto Calendar\nhtt
 ps://jewishtoronto.com/calendar/jgs-toronto-dna-ownership-and-privacy-of-g
 enetic-testing-results\n\nJewish Genealogical Society of Toronto\nDNA: Own
 ership and Privacy of Genetic Testing Results\nSpeaker: Julia Creet\nShaar
 ei Shomayim Congregation \n470 Glencairn Avenue\nSunday\, January 27\, 201
 9 at 10:30 a.m.\n
DTSTART;TZID=America/Toronto:20190127T103000
DTEND;TZID=America/Toronto:20190127T120000
END:VEVENT
END:VCALENDAR
