BEGIN:VCALENDAR
PRODID:-//eluceo/ical//2.0/EN
VERSION:2.0
CALSCALE:GREGORIAN
BEGIN:VEVENT
UID:56ecd0bf635f1b1c6e628ef68df995f7
DTSTAMP:20260419T221806Z
SUMMARY:JF&CS Kids Cooking Event with Chef Jordan Wagman
DESCRIPTION:UJA Federation of Greater Toronto\nJewish Toronto Calendar\nhtt
 ps://jewishtoronto.com/calendar/jfcs-kids-cooking-event-with-chef-jordan-w
 agman-1612544152\n\nKids Cooking Event with Chef Jordan Wagman
DTSTART;TZID=America/Toronto:20210321T110000
DTEND;TZID=America/Toronto:20210321T120000
END:VEVENT
END:VCALENDAR
