BEGIN:VCALENDAR
PRODID:-//eluceo/ical//2.0/EN
VERSION:2.0
CALSCALE:GREGORIAN
BEGIN:VEVENT
UID:80e1d6f43a2b5c40635c36ff9d0bfe6a
DTSTAMP:20260420T085558Z
SUMMARY:Not your Bubbie's LATKES - Adults
DESCRIPTION:UJA Federation of Greater Toronto\nJewish Toronto Calendar\nhtt
 ps://jewishtoronto.com/calendar/jfcs-cooking-event-with-chef-jordan-wagman
 -1602010710\n\n Not your Bubbie's LATKES - Adults\n\nLink: https://www.jf
 andcs.com/virtualcookingevent\n\n 
DTSTART;TZID=America/Toronto:20201207T173000
DTEND;TZID=America/Toronto:20201207T183000
END:VEVENT
END:VCALENDAR
